BEGIN:VCALENDAR
VERSION:2.0
PRODID:-//Library Market//iCal Export//EN
BEGIN:VEVENT
SUMMARY:Office of Mental Health
UID:103683
DTSTAMP:20260420T193600Z
DTSTART:20260422T130000Z
DTEND:20260422T170000Z
LOCATION:Grinton I. Will Library, 1500 Central Park Avenue, Yonkers, NY 10
 710, United States
ROOM: Will Auditorium
DESCRIPTION:Community Engagement Session
URL:https://www.ypl.org/event/office-mental-health-103683
END:VEVENT
END:VCALENDAR
