BEGIN:VCALENDAR
VERSION:2.0
PRODID:-//Library Market//iCal Export//EN
BEGIN:VEVENT
SUMMARY:Seydurah and Her Avecomi Band of Blues
UID:104746
DTSTAMP:20260426T022600Z
DTSTART:20260507T180000Z
DTEND:20260507T190000Z
LOCATION:Grinton I. Will Library, 1500 Central Park Avenue, Yonkers, NY 10
 710, United States
ROOM: Will Auditorium
DESCRIPTION:Enjoy a fun filled afternoon of fiery &amp; dynamic music perf
 ormed by Seydurah and Her Avecomi Band of Blues. Maybe you&#039;ll even ge
 t up and dance!Afterwards, join us for our Mother&#039;s Day Brunch! It&#0
 39;s sure to be a great day!
URL:https://www.ypl.org/event/musical-performance-104746
END:VEVENT
END:VCALENDAR
