BEGIN:VCALENDAR
VERSION:2.0
PRODID:-//Library Market//iCal Export//EN
BEGIN:VEVENT
SUMMARY:Mother&#039;s Day Brunch
UID:104748
DTSTAMP:20260426T022600Z
DTSTART:20260507T190000Z
DTEND:20260507T203000Z
LOCATION:Grinton I. Will Library, 1500 Central Park Avenue, Yonkers, NY 10
 710, United States
ROOM: Will Lower Lobby - Inside
DESCRIPTION:Join us to celebrate mother&#039;s everywhere! Enjoy a delicio
 us catered brunch, great company, music, and games &amp; a raffle! Also b
 e sure to attend our musical event, Seydurah and Her Avecomi Band of Blues
 , beforehand at 2 pm. 
URL:https://www.ypl.org/event/mothers-day-brunch-104748
END:VEVENT
END:VCALENDAR
