BEGIN:VCALENDAR
VERSION:2.0
PRODID:-//Library Market//iCal Export//EN
BEGIN:VEVENT
SUMMARY:How to Help Cats in Your Neighborhood
UID:104848
DTSTAMP:20260421T184400Z
DTSTART:20260513T183000Z
DTEND:20260513T193000Z
LOCATION:Grinton I. Will Library, 1500 Central Park Avenue, Yonkers, NY 10
 710, United States
ROOM: Will Conference Room
DESCRIPTION:Are you seeing cats in your neighborhood? Come learn how to he
 lp them!  Join the Cat Protection Council of Westchester for a brief pres
 entation, Q &amp; A session, and demonstration of Trap-Neuter-Vaccinate-R
 eturn (TNVR). TNVR is the only humane, effective way to control the popul
 ation of unowned, free-roaming cats. 
URL:https://www.ypl.org/event/reserve-104848
END:VEVENT
END:VCALENDAR
