BEGIN:VCALENDAR
VERSION:2.0
PRODID:-//Library Market//iCal Export//EN
BEGIN:VEVENT
SUMMARY:Experience the Opera
UID:108390
DTSTAMP:20260421T201300Z
DTSTART:20260520T140000Z
DTEND:20260520T160000Z
LOCATION:Grinton I. Will Library, 1500 Central Park Avenue, Yonkers, NY 10
 710, United States
ROOM: Will Conference Room
DESCRIPTION:Join us for an entertaining, informative, and modestly interac
 tive series highlighting 4 great operas. These classes will introduce you 
 to the main arias, plot, and composers and offer you the chance to read fr
 om scripts and wear costumes (completely voluntary!). Featured operas are
  La Traviata, Porgy and Bess, Carmen by Georges Bizet, and Tosca.Funded an
 d done in collaboration with Westchester Community College. 
URL:https://www.ypl.org/event/opera-reserve-108390
END:VEVENT
END:VCALENDAR
