BEGIN:VCALENDAR
VERSION:2.0
PRODID:-//Library Market//iCal Export//EN
BEGIN:VEVENT
SUMMARY:May Sensory Storytime
UID:108576
DTSTAMP:20260422T172700Z
DTSTART:20260523T150000Z
DTEND:20260523T160000Z
LOCATION:Grinton I. Will Library, 1500 Central Park Avenue, Yonkers, NY 10
 710, United States
ROOM: Will Senator Flynn Room
DESCRIPTION:Sensory Storytime for children with special needs &amp; disabi
 lities. Registration required- please only register children, you can add 
 your name as a parent when signing them up. The registration is capped at 
 12 children to keep the group small. We will read two stories and sing son
 gs. 
URL:https://www.ypl.org/event/copy-sensory-storytime-108576
END:VEVENT
END:VCALENDAR
