BEGIN:VCALENDAR
VERSION:2.0
PRODID:-//Library Market//iCal Export//EN
BEGIN:VEVENT
SUMMARY:Fidelis Care
UID:109513
DTSTAMP:20260419T215800Z
DTSTART:20260424T140000Z
DTEND:20260424T160000Z
LOCATION:Yonkers Public Library, One Larkin Center, Yonkers, NY 10701, Uni
 ted States
ROOM: Riverfront Room 202 (2nd Floor)
DESCRIPTION:Fidelis Staff Meeting 
URL:https://www.ypl.org/event/fidelis-care-109513
END:VEVENT
END:VCALENDAR
