BEGIN:VCALENDAR
VERSION:2.0
PRODID:-//Library Market//iCal Export//EN
BEGIN:VEVENT
SUMMARY:Yoga for Little Learners
UID:109609
DTSTAMP:20260424T015600Z
DTSTART:20260518T163000Z
DTEND:20260518T173000Z
LOCATION:Yonkers Public Library, One Larkin Center, Yonkers, NY 10701, Uni
 ted States
ROOM: Riverfront The Cove (2nd Floor)
DESCRIPTION:Combining movement, music, and games, this fun and interactive
  yoga class is designed just for preschoolers. Your little learner will ex
 plore the creative side of yoga in fun and imaginative ways, increasing bo
 dy awareness, self-regulation, confidence, and more as they develop founda
 tional skills for life-long learning. Come learn and grow with us! 
URL:https://www.ypl.org/event/yoga-little-learners-109609
END:VEVENT
END:VCALENDAR
