BEGIN:VCALENDAR
VERSION:2.0
PRODID:-//Library Market//iCal Export//EN
BEGIN:VEVENT
SUMMARY:Reading Helper
UID:109886
DTSTAMP:20260420T010900Z
DTSTART:20260617T193000Z
DTEND:20260617T223000Z
LOCATION:Yonkers Public Library, One Larkin Center, Yonkers, NY 10701, Uni
 ted States
ROOM: Riverfront Children&#039;s Reading Tables (2nd Floor)
DESCRIPTION:Former Elementary teacher, Eileen, helps children read.
URL:https://www.ypl.org/event/reading-helper-109886
END:VEVENT
END:VCALENDAR
