BEGIN:VCALENDAR
VERSION:2.0
PRODID:-//Library Market//iCal Export//EN
BEGIN:VEVENT
SUMMARY:Reading Helper
UID:109887
DTSTAMP:20260420T010900Z
DTSTART:20260624T193000Z
DTEND:20260624T223000Z
LOCATION:Yonkers Public Library, One Larkin Center, Yonkers, NY 10701, Uni
 ted States
ROOM: Riverfront Children&#039;s Reading Tables (2nd Floor)
DESCRIPTION:Former Elementary teacher, Eileen, helps children read.
URL:https://www.ypl.org/event/reading-helper-109887
END:VEVENT
END:VCALENDAR
