BEGIN:VCALENDAR
VERSION:2.0
PRODID:-//Library Market//iCal Export//EN
BEGIN:VEVENT
SUMMARY:Yonkers Writing Group
UID:109894
DTSTAMP:20260419T145300Z
DTSTART:20260404T170000Z
DTEND:20260404T190000Z
LOCATION:Yonkers Public Library, One Larkin Center, Yonkers, NY 10701, Uni
 ted States
ROOM: Riverfront Yonkers Room (4th Floor)
DESCRIPTION:In addition to our writer meet-ups, we offer a variety of poet
 ry trainings such as &quot;Start Your Day Write&quot;, and workshops like 
 &quot; YWG Write-a-Thon.&quot;  These programs are designed to support wr
 iters in their creative endeavors and provide opportunities fir networking
  and collaboration.  Join the Yonkers Writing Group and take your writing
  to the next level.  RSVP Required 0n Library Website.    @theyonkerswr
 itinggroup
URL:https://www.ypl.org/event/yonkers-writing-group-109894
END:VEVENT
END:VCALENDAR
