BEGIN:VCALENDAR
VERSION:2.0
PRODID:-//Library Market//iCal Export//EN
BEGIN:VEVENT
SUMMARY:Arts Westchester
UID:109904
DTSTAMP:20260420T010900Z
DTSTART:20260429T213000Z
DTEND:20260429T233000Z
LOCATION:Yonkers Public Library, One Larkin Center, Yonkers, NY 10701, Uni
 ted States
ROOM: Riverfront Board Room (4th Floor)
DESCRIPTION:info session
URL:https://www.ypl.org/event/arts-westchester-109904
END:VEVENT
END:VCALENDAR
