BEGIN:VCALENDAR
VERSION:2.0
PRODID:-//Library Market//iCal Export//EN
BEGIN:VEVENT
SUMMARY:YPL Presents: Unlock Your True Potential With Nir Eyal
UID:109964
DTSTAMP:20260421T200500Z
DTSTART:20260519T180000Z
DTEND:20260519T190000Z
LOCATION:
DESCRIPTION: What if the only thing standing between you and the seemingl
 y impossible was ... belief? This is the question posed by bestselling aut
 hor Nir Eyal in his new work, Beyond Belief. Most of your limits aren’t
  physical. They’re psychological. In Beyond Belief, Nir Eyal reveals how
  the hidden assumptions you carry shape what you see, how you feel, and wh
 at you do—and how to replace them with beliefs that unlock your true pot
 ential.Grounded in neuroscience, psychology, and unforgettable case studie
 s, Eyal introduces the Three Powers of Belief: Attention, Anticipation, an
 d Agency. Mastering these powers transforms how you see challenges, feel a
 bout the future, and act when it matters most.Register here for this speci
 al event.The YPL Presents: Virtual Author series is funded and supported b
 y the Foundation for the Yonkers Public Library.About the Author: Nir Eyal
  writes, consults, and teaches about the intersection of psychology, techn
 ology, and human potential. He previously taught at the Stanford Graduate 
 School of Business and the Hasso Plattner Institute of Design at Stanford.
  He is the author of the international bestsellers Hooked: How to Build Ha
 bit-Forming Products and Indistractable: How to Control Your Attention and
  Choose Your Life, which have sold over 1 million copies in more than 30 l
 anguages. As an active angel investor, Nir has backed multi-billion-dollar
  companies that implement his methodologies, including Canva, Kahoot!, and
  others. In addition to blogging at NirAndFar.com, his writing has been fe
 atured in The New York Times and Harvard Business Review, and he is a regu
 lar contributor to Psychology Today.Enjoy past author talks here. 
URL:https://www.ypl.org/event/ypl-presents-unlock-your-true-potential-nir-
 eyal-109964
END:VEVENT
END:VCALENDAR
