BEGIN:VCALENDAR
VERSION:2.0
PRODID:-//Library Market//iCal Export//EN
BEGIN:VEVENT
SUMMARY:Learn to Play Mahjong
UID:109978
DTSTAMP:20260421T215700Z
DTSTART:20260527T140000Z
DTEND:20260527T160000Z
LOCATION:Grinton I. Will Library, 1500 Central Park Avenue, Yonkers, NY 10
 710, United States
ROOM: Will Lower Lobby - Inside
DESCRIPTION:Learn to play the ancient Chinese game of mahjong. For beginne
 rs only. Registration is required, and all 6 classes must be attended. Th
 ose who participated tin the past are not eligible to register. Registra
 tion Closed.
URL:https://www.ypl.org/event/learn-play-mahjong-109978
END:VEVENT
END:VCALENDAR
