BEGIN:VCALENDAR
VERSION:2.0
PRODID:-//Library Market//iCal Export//EN
BEGIN:VEVENT
SUMMARY:Cinema Club
UID:109982
DTSTAMP:20260421T200500Z
DTSTART:20260520T183000Z
DTEND:20260520T193000Z
LOCATION:Grinton I. Will Library, 1500 Central Park Avenue, Yonkers, NY 10
 710, United States
ROOM: Will Computer Room
DESCRIPTION:Who says book clubs get to have all the fun?Watch a movie at h
 ome and then come join us at the library to discuss it. We will pick diffe
 rent genres every month!This month&#039;s movie: Winter&#039;s Bone (R)Ext
 ra DVDS can be picked up at the Circulation Desk, also streaming on Kanopy
 . 
URL:https://www.ypl.org/event/cinema-club-109982
END:VEVENT
END:VCALENDAR
