BEGIN:VCALENDAR
VERSION:2.0
PRODID:-//Library Market//iCal Export//EN
BEGIN:VEVENT
SUMMARY:The Poetry Chronicles
UID:110003
DTSTAMP:20260421T212800Z
DTSTART:20260501T183000Z
DTEND:20260501T203000Z
LOCATION:Grinton I. Will Library, 1500 Central Park Avenue, Yonkers, NY 10
 710, United States
ROOM: Will Auditorium
DESCRIPTION:Come join us celebrate Poetry Month with these beautifully poe
 tic movies. Friday, April 3 @ 2:30 pm: The Dead Poet&#039;s Society (PG)F
 riday, April 24 @ 2:30 pm: Bright Star (PG) Friday, May 1 @ 2:30 pm: Patt
 erson (R) [RESCHEDULED]
URL:https://www.ypl.org/event/poetry-chronicles-110003
END:VEVENT
END:VCALENDAR
