BEGIN:VCALENDAR
VERSION:2.0
PRODID:-//Library Market//iCal Export//EN
BEGIN:VEVENT
SUMMARY:Will Programming Meeting
UID:110009
DTSTAMP:20260422T133400Z
DTSTART:20260506T183000Z
DTEND:20260506T193000Z
LOCATION:Grinton I. Will Library, 1500 Central Park Avenue, Yonkers, NY 10
 710, United States
ROOM: Will Conference Room
DESCRIPTION:Will Programming Meeting.
URL:https://www.ypl.org/event/will-programming-meeting-110009
END:VEVENT
END:VCALENDAR
