BEGIN:VCALENDAR
VERSION:2.0
PRODID:-//Library Market//iCal Export//EN
BEGIN:VEVENT
SUMMARY:Bee &amp; Butterfly Basecamp
UID:110013
DTSTAMP:20260421T232700Z
DTSTART:20260501T040000Z
DTEND:20260531T040000Z
LOCATION:Grinton I. Will Library, 1500 Central Park Avenue, Yonkers, NY 10
 710, United States
ROOM: Will Children&#039;s Room
DESCRIPTION:Check out our Bee &amp; Butterfly Basecamp when you visit the
  library! Drop-in crafts, activities, and a seek&#039;n&#039;find game! Av
 ailable all month long in the Children&#039;s Room!
URL:https://www.ypl.org/event/bee-butterfly-basecamp-110013
END:VEVENT
END:VCALENDAR
