BEGIN:VCALENDAR
VERSION:2.0
PRODID:-//Library Market//iCal Export//EN
BEGIN:VEVENT
SUMMARY:Cinco de Mayo! Story &amp; Craft
UID:110017
DTSTAMP:20260422T133400Z
DTSTART:20260505T200000Z
DTEND:20260505T204500Z
LOCATION:Grinton I. Will Library, 1500 Central Park Avenue, Yonkers, NY 10
 710, United States
ROOM: Will Children&#039;s Storytime Rug
DESCRIPTION:Celebrate Cinco de Mayo with a story and craft! Recommended fo
 r ages 5-12. No registration.
URL:https://www.ypl.org/event/cinco-de-mayo-story-craft-110017
END:VEVENT
END:VCALENDAR
