BEGIN:VCALENDAR
VERSION:2.0
PRODID:-//Library Market//iCal Export//EN
BEGIN:VEVENT
SUMMARY:Mother&#039;s Day Card Making Station
UID:110018
DTSTAMP:20260424T070300Z
DTSTART:20260509T173000Z
DTEND:20260509T193000Z
LOCATION:Grinton I. Will Library, 1500 Central Park Avenue, Yonkers, NY 10
 710, United States
ROOM: Will Children&#039;s Room
DESCRIPTION:Drop-in and make a Mother&#039;s Day card! No registration.
URL:https://www.ypl.org/event/mothers-day-card-making-station-110018
END:VEVENT
END:VCALENDAR
