BEGIN:VCALENDAR
VERSION:2.0
PRODID:-//Library Market//iCal Export//EN
BEGIN:VEVENT
SUMMARY:Dance around the Maypole!
UID:110019
DTSTAMP:20260422T172700Z
DTSTART:20260518T200000Z
DTEND:20260518T204500Z
LOCATION:Grinton I. Will Library, 1500 Central Park Avenue, Yonkers, NY 10
 710, United States
ROOM: Will Lower Lobby - Outside
DESCRIPTION:Celebrate the merry month of May with a story and dance around
  the Maypole. No registration.
URL:https://www.ypl.org/event/dance-around-maypole-110019
END:VEVENT
END:VCALENDAR
