BEGIN:VCALENDAR
VERSION:2.0
PRODID:-//Library Market//iCal Export//EN
BEGIN:VEVENT
SUMMARY:YONKERS ARTS WEEKEND: Art Cart @ Will!
UID:110020
DTSTAMP:20260422T151000Z
DTSTART:20260516T173000Z
DTEND:20260516T193000Z
LOCATION:Grinton I. Will Library, 1500 Central Park Avenue, Yonkers, NY 10
 710, United States
ROOM: Will Children&#039;s Room
DESCRIPTION:Celebrate Yonkers Arts Weekend and get crafty with our art sup
 plies! Pastels, paints, and more! No registration. In collaboration with Y
 onkers Arts.
URL:https://www.ypl.org/event/yonkers-arts-weekend-art-cart-will-110020
END:VEVENT
END:VCALENDAR
