BEGIN:VCALENDAR
VERSION:2.0
PRODID:-//Library Market//iCal Export//EN
BEGIN:VEVENT
SUMMARY:Get Started with Chess!
UID:110024
DTSTAMP:20260422T151000Z
DTSTART:20260512T200000Z
DTEND:20260512T204500Z
LOCATION:Grinton I. Will Library, 1500 Central Park Avenue, Yonkers, NY 10
 710, United States
ROOM: Will Children&#039;s Storytime Rug
DESCRIPTION:A brief introduction to the rules and pieces of chess for chil
 dren ages 7-12. No registration.
URL:https://www.ypl.org/event/get-started-chess-110024
END:VEVENT
END:VCALENDAR
