BEGIN:VCALENDAR
VERSION:2.0
PRODID:-//Library Market//iCal Export//EN
BEGIN:VEVENT
SUMMARY:Rather Be Reading Book Club
UID:110027
DTSTAMP:20260426T022600Z
DTSTART:20260527T183000Z
DTEND:20260527T193000Z
LOCATION:Grinton I. Will Library, 1500 Central Park Avenue, Yonkers, NY 10
 710, United States
ROOM: Will Computer Room
DESCRIPTION:For people who would rather be reading 90% of their day, join 
 us fellow bookworms to discuss books from different genres.This month&#039
 ;s book: The Woman in Cabin 10 by Ruth WareExtra copies can be picked up a
 t the Circulation Desk. Also available on Libby. 
URL:https://www.ypl.org/event/copy-rather-be-reading-book-club-110027
END:VEVENT
END:VCALENDAR
