BEGIN:VCALENDAR
VERSION:2.0
PRODID:-//Library Market//iCal Export//EN
BEGIN:VEVENT
SUMMARY:Cooper Tuesdays! Read to Cooper @ Will
UID:110039
DTSTAMP:20260422T151000Z
DTSTART:20260526T200000Z
DTEND:20260526T210000Z
LOCATION:Grinton I. Will Library, 1500 Central Park Avenue, Yonkers, NY 10
 710, United States
ROOM: Will Children&#039;s Room
DESCRIPTION:Children can read to Cooper the Therapy Dog in person.   Rec
 ommended for ages 5 to 10.This program is located in the Main Children&#03
 9;s RoomEach child gets 10 minutes to read so please register in advance.
URL:https://www.ypl.org/event/cooper-tuesdays-read-cooper-will-110039
END:VEVENT
END:VCALENDAR
