BEGIN:VCALENDAR
VERSION:2.0
PRODID:-//Library Market//iCal Export//EN
BEGIN:VEVENT
SUMMARY:Saturday Storytime @ WILL!
UID:110041
DTSTAMP:20260422T014300Z
DTSTART:20260502T143000Z
DTEND:20260502T150000Z
LOCATION:Grinton I. Will Library, 1500 Central Park Avenue, Yonkers, NY 10
 710, United States
ROOM: Will Children&#039;s Storytime Rug
DESCRIPTION:In-person at the Will Library for ages 0-5. Songs, Nursery Rhy
 mes, finger plays, and stories. No registration.
URL:https://www.ypl.org/event/saturday-storytime-will-110041
END:VEVENT
END:VCALENDAR
