BEGIN:VCALENDAR
VERSION:2.0
PRODID:-//Library Market//iCal Export//EN
BEGIN:VEVENT
SUMMARY:Special Dental Storytime! with Joanne Roos
UID:110043
DTSTAMP:20260422T151000Z
DTSTART:20260515T151500Z
DTEND:20260515T160000Z
LOCATION:Grinton I. Will Library, 1500 Central Park Avenue, Yonkers, NY 10
 710, United States
ROOM: Will Children&#039;s Room
DESCRIPTION:Learn about dental hygiene from A to Z with local author Joann
 e Roos! No registration.  
URL:https://www.ypl.org/event/special-dental-storytime-joanne-roos-110043
END:VEVENT
END:VCALENDAR
