BEGIN:VCALENDAR
VERSION:2.0
PRODID:-//Library Market//iCal Export//EN
BEGIN:VEVENT
SUMMARY:Music with Zev! Live @ Will
UID:110045
DTSTAMP:20260422T173600Z
DTSTART:20260522T151500Z
DTEND:20260522T160000Z
LOCATION:Grinton I. Will Library, 1500 Central Park Avenue, Yonkers, NY 10
 710, United States
ROOM: Will Children&#039;s Storytime Rug
DESCRIPTION:Join award winning songwriter and performer Zev Haber for fun 
 family music, dancing and using instruments. No registration.
URL:https://www.ypl.org/event/music-zev-live-will-110045
END:VEVENT
END:VCALENDAR
