BEGIN:VCALENDAR
VERSION:2.0
PRODID:-//Library Market//iCal Export//EN
BEGIN:VEVENT
SUMMARY:Summer Reading Fiesta with Bubbles and Bluey!
UID:110047
DTSTAMP:20260422T182300Z
DTSTART:20260527T200000Z
DTEND:20260527T220000Z
LOCATION:Grinton I. Will Library, 1500 Central Park Avenue, Yonkers, NY 10
 710, United States
ROOM: Will Lower Lobby - Outside
DESCRIPTION:Start Summer Reading with fun for all ages! Featuring a very s
 pecial visit from the Bubble Bus! Meet Bluey as he makes a special appe
 arance sponsored by the East Yonkers Kiwanis Club! Games, snacks, and more
 ! No registration required.
URL:https://www.ypl.org/event/summer-reading-fiesta-bubbles-and-bluey-1100
 47
END:VEVENT
END:VCALENDAR
