BEGIN:VCALENDAR
VERSION:2.0
PRODID:-//Library Market//iCal Export//EN
BEGIN:VEVENT
SUMMARY:Monthly Minecraft Club
UID:110065
DTSTAMP:20260424T015600Z
DTSTART:20260508T191500Z
DTEND:20260508T203000Z
LOCATION:Yonkers Public Library, One Larkin Center, Yonkers, NY 10701, Uni
 ted States
ROOM: Riverfront Room 202 (2nd Floor)
DESCRIPTION:Join us for crafting fun during our Monthly Minecraft Club, ha
 ppening the second Friday of every month! We&#039;ll have iPads available 
 to play Minecraft, Minecraft-themed blocks to build with, and Minecraft co
 loring pages to enjoy. Space is limited - first come, first served.
URL:https://www.ypl.org/event/monthly-minecraft-club-110065
END:VEVENT
END:VCALENDAR
