BEGIN:VCALENDAR
VERSION:2.0
PRODID:-//Library Market//iCal Export//EN
BEGIN:VEVENT
SUMMARY:Dog Man Pizza Party!
UID:110067
DTSTAMP:20260424T015600Z
DTSTART:20260515T191500Z
DTEND:20260515T204500Z
LOCATION:Yonkers Public Library, One Larkin Center, Yonkers, NY 10701, Uni
 ted States
ROOM: Riverfront Room 202 (2nd Floor)
DESCRIPTION:It&#039;s National Pizza Party Day! To celebrate, we&#039;re p
 airing free pizza with a showing of Dog Man (PG). Food is limited - first 
 come, first served. Materials available while supplies last.
URL:https://www.ypl.org/event/draft-cartoon-and-coloring-110067
END:VEVENT
END:VCALENDAR
