BEGIN:VCALENDAR
VERSION:2.0
PRODID:-//Library Market//iCal Export//EN
BEGIN:VEVENT
SUMMARY:3D Printed Crafting: Cats and Dogs
UID:110071
DTSTAMP:20260424T030900Z
DTSTART:20260522T191500Z
DTEND:20260522T203000Z
LOCATION:Yonkers Public Library, One Larkin Center, Yonkers, NY 10701, Uni
 ted States
ROOM: Riverfront Room 202 (2nd Floor)
DESCRIPTION:Celebrate National Pet Month with a 3D printed craft! We&#039;
 re making necklaces with charms 3D printed right here in the library. Mate
 rials available while supplies last.
URL:https://www.ypl.org/event/3d-printed-crafting-cats-and-dogs-110071
END:VEVENT
END:VCALENDAR
