BEGIN:VCALENDAR
VERSION:2.0
PRODID:-//Library Market//iCal Export//EN
BEGIN:VEVENT
SUMMARY:Wicked for Good
UID:110075
DTSTAMP:20260422T204800Z
DTSTART:20260429T180000Z
DTEND:20260429T203000Z
LOCATION:Grinton I. Will Library, 1500 Central Park Avenue, Yonkers, NY 10
 710, United States
ROOM: Will Auditorium
DESCRIPTION:The epic conclusion to the untold story of the witches of Oz b
 egins. Rated PG
URL:https://www.ypl.org/event/wicked-good-110075
END:VEVENT
END:VCALENDAR
