BEGIN:VCALENDAR
VERSION:2.0
PRODID:-//Library Market//iCal Export//EN
BEGIN:VEVENT
SUMMARY:Cartoon and Coloring: Wish (PG)
UID:110076
DTSTAMP:20260424T015600Z
DTSTART:20260529T191500Z
DTEND:20260529T204500Z
LOCATION:Yonkers Public Library, One Larkin Center, Yonkers, NY 10701, Uni
 ted States
ROOM: Riverfront Room 202 (2nd Floor)
DESCRIPTION:Join us for an afternoon of coloring and movie magic! When Ash
 a learns the truth behind what the king does with his people&#039;s wishes
 , can she find the courage to set things right? Find out as we watch and c
 olor!
URL:https://www.ypl.org/event/cartoon-and-coloring-wish-pg-110076
END:VEVENT
END:VCALENDAR
