BEGIN:VCALENDAR
VERSION:2.0
PRODID:-//Library Market//iCal Export//EN
BEGIN:VEVENT
SUMMARY:Raya and the Last Dragon (PG) - AAPI Onscreen Family Film Series
UID:110081
DTSTAMP:20260424T015600Z
DTSTART:20260513T200000Z
DTEND:20260513T220000Z
LOCATION:Yonkers Public Library, One Larkin Center, Yonkers, NY 10701, Uni
 ted States
ROOM: Riverfront The Cove (2nd Floor)
DESCRIPTION:Join us to celebrate Asian American &amp; Pacific Islander Her
 itage month! On this date, visit The Cove for a showing of Raya and the La
 st Dragon.This screening is part of the AAPI Onscreen Family Film Series. 
 We&#039;ll be showing films featuring Asian American and Pacific Islander 
 protagonists certain Wednesdays this May. Check out the other movies in th
 e series:May 6, 4 PM - KPop Demon Hunters (PG)May 13, 4 PM - Raya and the 
 Last Dragon (PG)May 20, 4 PM - Moana (PG)
URL:https://www.ypl.org/event/aapi-onscreen-family-film-series-110081
END:VEVENT
END:VCALENDAR
