BEGIN:VCALENDAR
VERSION:2.0
PRODID:-//Library Market//iCal Export//EN
BEGIN:VEVENT
SUMMARY:Ruth Asawa Wire Art
UID:110083
DTSTAMP:20260424T030900Z
DTSTART:20260527T191500Z
DTEND:20260527T203000Z
LOCATION:Yonkers Public Library, One Larkin Center, Yonkers, NY 10701, Uni
 ted States
ROOM: Riverfront Room 202 (2nd Floor)
DESCRIPTION:Join to create art pieces inspired by Ruth Aiko Asawa! We&#039
 ;ll use pipe cleaners to create wire sculptures like hers during this afte
 rnoon of creativity. Materials available while supplies last.
URL:https://www.ypl.org/event/wire-art-wednesday-110083
END:VEVENT
END:VCALENDAR
