BEGIN:VCALENDAR
VERSION:2.0
PRODID:-//Library Market//iCal Export//EN
BEGIN:VEVENT
SUMMARY:VR Explorers: Animals Up Close
UID:110084
DTSTAMP:20260424T030900Z
DTSTART:20260526T191500Z
DTEND:20260526T203000Z
LOCATION:Yonkers Public Library, One Larkin Center, Yonkers, NY 10701, Uni
 ted States
ROOM: Riverfront Room 202 (2nd Floor)
DESCRIPTION:Join us for virtual reality with ClassVR! For this session, we
 &#039;ll have programs that let you meet wild animals face to face. Experi
 ence all the wonders of the animal kingdom - our educational headsets will
  give you a front row seat for the fun!
URL:https://www.ypl.org/event/vr-explorers-110084
END:VEVENT
END:VCALENDAR
