BEGIN:VCALENDAR
VERSION:2.0
PRODID:-//Library Market//iCal Export//EN
BEGIN:VEVENT
SUMMARY:Personalized Papel Picado Coloring
UID:110087
DTSTAMP:20260424T031700Z
DTSTART:20260505T200000Z
DTEND:20260505T234500Z
LOCATION:Yonkers Public Library, One Larkin Center, Yonkers, NY 10701, Uni
 ted States
ROOM: Riverfront Children&#039;s Department - Study Carrels (2nd Floor)
DESCRIPTION:Happy Cinco de Mayo! Celebrate Mexican culture by decorating a
  papel picado inspired coloring page customized with your name. Available 
 at the Children&#039;s Department desk upon request.
URL:https://www.ypl.org/event/perzonalized-papel-picado-coloring-110087
END:VEVENT
END:VCALENDAR
