BEGIN:VCALENDAR
VERSION:2.0
PRODID:-//Library Market//iCal Export//EN
BEGIN:VEVENT
SUMMARY:AAPI Heritage Month Coloring Station
UID:110089
DTSTAMP:20260424T015600Z
DTSTART:20260502T040000Z
DTEND:20260531T040000Z
LOCATION:Yonkers Public Library, One Larkin Center, Yonkers, NY 10701, Uni
 ted States
ROOM: Riverfront Children&#039;s Reading Tables (2nd Floor)
DESCRIPTION:Visit the main desk on the Children&#039;s Floor for Asian Ame
 rican &amp; Pacific Islander themed coloring featuring famous people and c
 haracters! Want to share what you&#039;ve created? A librarian can add it 
 to our art wall - just ask!Materials available while supplies last.
URL:https://www.ypl.org/event/aapi-heritage-month-coloring-station-110089
END:VEVENT
END:VCALENDAR
