BEGIN:VCALENDAR
VERSION:2.0
PRODID:-//Library Market//iCal Export//EN
BEGIN:VEVENT
SUMMARY:NCNW Westchester
UID:110101
DTSTAMP:20260426T004900Z
DTSTART:20260516T150000Z
DTEND:20260516T170000Z
LOCATION:Grinton I. Will Library, 1500 Central Park Avenue, Yonkers, NY 10
 710, United States
ROOM: Will Senator Flynn Room
DESCRIPTION:monthly meeting
URL:https://www.ypl.org/event/ncnw-westchester-110101
END:VEVENT
END:VCALENDAR
