BEGIN:VCALENDAR
VERSION:2.0
PRODID:-//Library Market//iCal Export//EN
BEGIN:VEVENT
SUMMARY:Movie of the Month: Wuthering Heights (2026)
UID:110113
DTSTAMP:20260426T022600Z
DTSTART:20260528T180000Z
DTEND:20260528T203000Z
LOCATION:Grinton I. Will Library, 1500 Central Park Avenue, Yonkers, NY 10
 710, United States
ROOM: Will Auditorium
DESCRIPTION:A bold and original reimagining of one of the greatest love st
 ories of all time, Emerald Fennell&#039;s &quot;Wuthering Heights&quot; st
 ars Margot Robbie as Cathy and Jacob Elordi as Heathcliff, whose forbidden
  passion for one another turns from romantic to intoxicating in an epic ta
 le of lust, love and madness.Rated R
URL:https://www.ypl.org/event/movie-month-wuthering-heights-110113
END:VEVENT
END:VCALENDAR
