BEGIN:VCALENDAR
VERSION:2.0
PRODID:-//Library Market//iCal Export//EN
BEGIN:VEVENT
SUMMARY:Cricut Machine
UID:110117
DTSTAMP:20260426T004900Z
DTSTART:20260423T163000Z
DTEND:20260423T183000Z
LOCATION:Grinton I. Will Library, 1500 Central Park Ave, Yonkers, NY 10710
 , United States
ROOM: Creative Studio @ Will
DESCRIPTION:cricut maker
URL:https://www.ypl.org/event/cricut-machine-110117
END:VEVENT
END:VCALENDAR
