BEGIN:VCALENDAR
VERSION:2.0
PRODID:-//Library Market//iCal Export//EN
BEGIN:VEVENT
SUMMARY:Sensory Stars
UID:110119
DTSTAMP:20260424T223000Z
DTSTART:20260519T190000Z
DTEND:20260519T203000Z
LOCATION:Yonkers Public Library, One Larkin Center, Yonkers, NY 10701, Uni
 ted States
ROOM: Riverfront Sensory Room  (2nd Floor)
DESCRIPTION:Explore hands-on sensory stations featuring a variety of textu
 res - pointy, squishy, hard, soft, and more! Space is limited. First come,
  first served.
URL:https://www.ypl.org/event/sensory-stars-110119
END:VEVENT
END:VCALENDAR
