BEGIN:VCALENDAR
VERSION:2.0
PRODID:-//Library Market//iCal Export//EN
BEGIN:VEVENT
SUMMARY:National Teachers Appreciation Week
UID:110124
DTSTAMP:20260424T015600Z
DTSTART:20260507T193000Z
DTEND:20260507T203000Z
LOCATION:Yonkers Public Library, One Larkin Center, Yonkers, NY 10701, Uni
 ted States
ROOM: Riverfront Children&#039;s Reading Tables (2nd Floor)
DESCRIPTION:Come learn about the teaching profession.
URL:https://www.ypl.org/event/national-teachers-appreciation-week-110124
END:VEVENT
END:VCALENDAR
