BEGIN:VCALENDAR
VERSION:2.0
PRODID:-//Library Market//iCal Export//EN
BEGIN:VEVENT
SUMMARY:Movie: Transformers One
UID:110125
DTSTAMP:20260424T030900Z
DTSTART:20260509T190000Z
DTEND:20260509T203000Z
LOCATION:Yonkers Public Library, One Larkin Center, Yonkers, NY 10701, Uni
 ted States
ROOM: Riverfront Room 202 (2nd Floor)
DESCRIPTION:See the award-winning film Transformers One.
URL:https://www.ypl.org/event/movie-transformers-one-110125
END:VEVENT
END:VCALENDAR
