BEGIN:VCALENDAR
VERSION:2.0
PRODID:-//Library Market//iCal Export//EN
BEGIN:VEVENT
SUMMARY:Moms &amp; Movies
UID:110136
DTSTAMP:20260425T231900Z
DTSTART:20260520T183000Z
DTEND:20260520T203000Z
LOCATION:Grinton I. Will Library, 1500 Central Park Avenue, Yonkers, NY 10
 710, United States
ROOM: Will Auditorium
DESCRIPTION:In honor of Mother&#039;s Day, join us on Wednesday afternoons
  to watch some cinematic greats!May 13, Stepmom (PG13)May 20, Waiting to E
 xhale (R)May 27, Steel Magnolias (PG) 
URL:https://www.ypl.org/event/moms-movies-110136
END:VEVENT
END:VCALENDAR
