BEGIN:VCALENDAR
VERSION:2.0
PRODID:-//Library Market//iCal Export//EN
BEGIN:VEVENT
SUMMARY:Saturday Movie Magic
UID:110138
DTSTAMP:20260424T015600Z
DTSTART:20260530T180000Z
DTEND:20260530T200000Z
LOCATION:Yonkers Public Library, One Larkin Center, Yonkers, NY 10701, Uni
 ted States
ROOM: Riverfront Room 202 (2nd Floor)
DESCRIPTION:Join us for a fun and cozy movie day at the library! Perfect f
 or kids of all ages, we’ll enjoy a family-friendly film together. Snacks
  provided, smiles guaranteed! 
URL:https://www.ypl.org/event/saturday-movie-magic-110138
END:VEVENT
END:VCALENDAR
