BEGIN:VCALENDAR
VERSION:2.0
PRODID:-//Library Market//iCal Export//EN
BEGIN:VEVENT
SUMMARY:Made with Love: Mother’s Day Cards
UID:110141
DTSTAMP:20260424T015600Z
DTSTART:20260506T200000Z
DTEND:20260506T204500Z
LOCATION:Yonkers Public Library, One Larkin Center, Yonkers, NY 10701, Uni
 ted States
ROOM: Riverfront Room 202 (2nd Floor)
DESCRIPTION:Join us after school for some crafting fun in honor of Mother&
 #039;s Day on Sunday, May 10. 
URL:https://www.ypl.org/event/made-love-mothers-day-cards-110141
END:VEVENT
END:VCALENDAR
