BEGIN:VCALENDAR
VERSION:2.0
PRODID:-//Library Market//iCal Export//EN
BEGIN:VEVENT
SUMMARY:Armed Forces Day
UID:110153
DTSTAMP:20260424T015600Z
DTSTART:20260513T193000Z
DTEND:20260513T203000Z
LOCATION:Yonkers Public Library, One Larkin Center, Yonkers, NY 10701, Uni
 ted States
ROOM: Riverfront Room 202 (2nd Floor)
DESCRIPTION:Celebrate The Armed Forces and their contributions to America!
URL:https://www.ypl.org/event/armed-forces-day-110153
END:VEVENT
END:VCALENDAR
