BEGIN:VCALENDAR
VERSION:2.0
PRODID:-//Library Market//iCal Export//EN
BEGIN:VEVENT
SUMMARY:National Space Day
UID:110155
DTSTAMP:20260424T015600Z
DTSTART:20260520T193000Z
DTEND:20260520T203000Z
LOCATION:Yonkers Public Library, One Larkin Center, Yonkers, NY 10701, Uni
 ted States
ROOM: Riverfront Room 202 (2nd Floor)
DESCRIPTION:Celebrate National Space Day in a year of many horizons!
URL:https://www.ypl.org/event/national-space-day-110155
END:VEVENT
END:VCALENDAR
